Package: cytofWorkflow Version: 1.26.1 Command: chmod a+r cytofWorkflow -R && F:\biocbuild\bbs-3.18-bioc\R\bin\R.exe CMD build --keep-empty-dirs --no-resave-data cytofWorkflow StartedAt: 2024-04-16 11:05:21 -0400 (Tue, 16 Apr 2024) EndedAt: 2024-04-16 11:14:19 -0400 (Tue, 16 Apr 2024) EllapsedTime: 538.2 seconds RetCode: 0 Status: OK PackageFile: cytofWorkflow_1.26.1.tar.gz PackageFileSize: 2.527 MiB