Package: cytofWorkflow Version: 1.26.1 Command: /Library/Frameworks/R.framework/Resources/bin/R CMD INSTALL cytofWorkflow StartedAt: 2024-04-16 11:00:47 -0400 (Tue, 16 Apr 2024) EndedAt: 2024-04-16 11:02:35 -0400 (Tue, 16 Apr 2024) EllapsedTime: 108.0 seconds RetCode: 0 Status: OK