Package: cytofWorkflow Version: 1.26.1 Command: /Library/Frameworks/R.framework/Resources/bin/R CMD build --keep-empty-dirs --no-resave-data cytofWorkflow StartedAt: 2024-04-16 11:08:33 -0400 (Tue, 16 Apr 2024) EndedAt: 2024-04-16 11:24:50 -0400 (Tue, 16 Apr 2024) EllapsedTime: 977.0 seconds RetCode: 0 Status: OK PackageFile: cytofWorkflow_1.26.1.tar.gz PackageFileSize: 6.794 MiB