Package: cytofWorkflow Version: 1.26.1 Command: /Library/Frameworks/R.framework/Resources/bin/R CMD INSTALL cytofWorkflow StartedAt: 2024-03-01 11:00:13 -0500 (Fri, 01 Mar 2024) EndedAt: 2024-03-01 11:00:49 -0500 (Fri, 01 Mar 2024) EllapsedTime: 35.5 seconds RetCode: 0 Status: OK