Package: cytofWorkflow Version: 1.26.1 Maintainer: Mark D. Robinson MaintainerEmail: mark.robinson at mls.uzh.ch git_url: https://git.bioconductor.org/packages/cytofWorkflow git_branch: RELEASE_3_18 git_last_commit: a4b1c21 git_last_commit_date: 2023-10-28 07:04:43 -0400 (Sat, 28 Oct 2023)