Package: arrays Version: 1.28.0 Command: /Library/Frameworks/R.framework/Resources/bin/R CMD build --keep-empty-dirs --no-resave-data arrays StartedAt: 2024-03-01 11:02:31 -0500 (Fri, 01 Mar 2024) EndedAt: 2024-03-01 11:02:58 -0500 (Fri, 01 Mar 2024) EllapsedTime: 27.1 seconds RetCode: 0 Status: OK PackageFile: arrays_1.28.0.tar.gz PackageFileSize: 9.64 MiB