Package: RNAseq123 Version: 1.26.0 Command: /Library/Frameworks/R.framework/Resources/bin/R CMD build --keep-empty-dirs --no-resave-data RNAseq123 StartedAt: 2024-03-01 11:02:42 -0500 (Fri, 01 Mar 2024) EndedAt: 2024-03-01 11:02:56 -0500 (Fri, 01 Mar 2024) EllapsedTime: 14.0 seconds RetCode: 1 Status: ERROR PackageFile: None PackageFileSize: NA