Package: ExpressionNormalizationWorkflow Version: 1.28.0 Command: /home/biocbuild/bbs-3.18-bioc/R/bin/R CMD build --keep-empty-dirs --no-resave-data ExpressionNormalizationWorkflow StartedAt: 2024-04-16 11:02:55 -0400 (Tue, 16 Apr 2024) EndedAt: 2024-04-16 11:09:05 -0400 (Tue, 16 Apr 2024) EllapsedTime: 370.6 seconds RetCode: 0 Status: OK PackageFile: ExpressionNormalizationWorkflow_1.28.0.tar.gz PackageFileSize: 3.047 MiB