Package: ExpressionNormalizationWorkflow Version: 1.28.0 Command: /Library/Frameworks/R.framework/Resources/bin/R CMD build --keep-empty-dirs --no-resave-data ExpressionNormalizationWorkflow StartedAt: 2024-04-16 11:09:03 -0400 (Tue, 16 Apr 2024) EndedAt: 2024-04-16 11:28:35 -0400 (Tue, 16 Apr 2024) EllapsedTime: 1172.6 seconds RetCode: 0 Status: OK PackageFile: ExpressionNormalizationWorkflow_1.28.0.tar.gz PackageFileSize: 3.354 MiB