Package: BP4RNAseq Version: 1.12.0 Command: /Library/Frameworks/R.framework/Resources/bin/R CMD INSTALL BP4RNAseq StartedAt: 2024-04-16 11:00:45 -0400 (Tue, 16 Apr 2024) EndedAt: 2024-04-16 11:00:55 -0400 (Tue, 16 Apr 2024) EllapsedTime: 9.1 seconds RetCode: 0 Status: OK