Package: yeastRNASeq Version: 0.40.0 Command: /home/biocbuild/bbs-3.18-bioc/R/bin/R CMD INSTALL yeastRNASeq StartedAt: 2024-04-16 10:01:08 -0400 (Tue, 16 Apr 2024) EndedAt: 2024-04-16 10:01:11 -0400 (Tue, 16 Apr 2024) EllapsedTime: 3.7 seconds RetCode: 0 Status: OK