Package: yeastRNASeq Version: 0.40.0 Maintainer: J. Bullard MaintainerEmail: bullard at stat.berkeley.edu git_url: https://git.bioconductor.org/packages/yeastRNASeq git_branch: RELEASE_3_18 git_last_commit: 57c93a0 git_last_commit_date: 2023-10-24 08:55:59 -0400 (Tue, 24 Oct 2023)