Package: topdownrdata Version: 1.24.0 Maintainer: Sebastian Gibb MaintainerEmail: mail at sebastiangibb.de git_url: https://git.bioconductor.org/packages/topdownrdata git_branch: RELEASE_3_18 git_last_commit: b623310 git_last_commit_date: 2023-10-24 09:17:16 -0400 (Tue, 24 Oct 2023)