Package: tinesath1probe Version: 1.40.0 Command: /home/biocbuild/bbs-3.18-bioc/R/bin/R CMD INSTALL tinesath1probe StartedAt: 2024-04-16 10:02:27 -0400 (Tue, 16 Apr 2024) EndedAt: 2024-04-16 10:02:36 -0400 (Tue, 16 Apr 2024) EllapsedTime: 8.7 seconds RetCode: 0 Status: OK