Package: tartare Version: 1.16.0 Command: /home/biocbuild/bbs-3.18-bioc/R/bin/R CMD build --keep-empty-dirs --no-resave-data tartare StartedAt: 2024-04-16 10:55:47 -0400 (Tue, 16 Apr 2024) EndedAt: 2024-04-16 10:56:09 -0400 (Tue, 16 Apr 2024) EllapsedTime: 21.9 seconds RetCode: 0 Status: OK PackageFile: tartare_1.16.0.tar.gz PackageFileSize: 307.6 KiB