Package: stjudem Version: 1.42.0 Command: /home/biocbuild/bbs-3.18-bioc/R/bin/R CMD check --install=check:stjudem.install-out.txt --library=/home/biocbuild/bbs-3.18-bioc/R/site-library --timings stjudem_1.42.0.tar.gz StartedAt: 2024-04-16 12:24:05 -0400 (Tue, 16 Apr 2024) EndedAt: 2024-04-16 12:24:32 -0400 (Tue, 16 Apr 2024) EllapsedTime: 26.6 seconds RetCode: 0 Status: WARNINGS CheckDir: stjudem.Rcheck Warnings: 1