Package: spatialLIBD Version: 1.14.1 Maintainer: Leonardo Collado-Torres MaintainerEmail: lcolladotor at gmail.com git_url: https://git.bioconductor.org/packages/spatialLIBD git_branch: RELEASE_3_18 git_last_commit: f4467b9 git_last_commit_date: 2023-11-29 15:52:07 -0400 (Wed, 29 Nov 2023)