Package: seqc Version: 1.36.0 Command: /home/biocbuild/bbs-3.18-bioc/R/bin/R CMD INSTALL seqc StartedAt: 2024-04-16 10:01:24 -0400 (Tue, 16 Apr 2024) EndedAt: 2024-04-16 10:04:41 -0400 (Tue, 16 Apr 2024) EllapsedTime: 197.1 seconds RetCode: 0 Status: OK