Package: seq2pathway.data Version: 1.34.0 Command: /home/biocbuild/bbs-3.18-bioc/R/bin/R CMD build --keep-empty-dirs --no-resave-data seq2pathway.data StartedAt: 2024-04-16 10:52:23 -0400 (Tue, 16 Apr 2024) EndedAt: 2024-04-16 10:53:41 -0400 (Tue, 16 Apr 2024) EllapsedTime: 78.4 seconds RetCode: 0 Status: OK PackageFile: seq2pathway.data_1.34.0.tar.gz PackageFileSize: 97.22 MiB