Package: scTHI.data Version: 1.14.0 Command: /home/biocbuild/bbs-3.18-bioc/R/bin/R CMD INSTALL scTHI.data StartedAt: 2024-04-16 10:00:22 -0400 (Tue, 16 Apr 2024) EndedAt: 2024-04-16 10:00:29 -0400 (Tue, 16 Apr 2024) EllapsedTime: 6.9 seconds RetCode: 0 Status: OK