Package: ptairData Version: 1.10.0 Command: /home/biocbuild/bbs-3.18-bioc/R/bin/R CMD INSTALL ptairData StartedAt: 2024-04-16 10:02:23 -0400 (Tue, 16 Apr 2024) EndedAt: 2024-04-16 10:02:26 -0400 (Tue, 16 Apr 2024) EllapsedTime: 2.6 seconds RetCode: 0 Status: OK