Package: ptairData Version: 1.10.0 Command: /home/biocbuild/bbs-3.18-bioc/R/bin/R CMD check --install=check:ptairData.install-out.txt --library=/home/biocbuild/bbs-3.18-bioc/R/site-library --timings ptairData_1.10.0.tar.gz StartedAt: 2024-04-16 12:07:08 -0400 (Tue, 16 Apr 2024) EndedAt: 2024-04-16 12:07:25 -0400 (Tue, 16 Apr 2024) EllapsedTime: 16.9 seconds RetCode: 0 Status: OK CheckDir: ptairData.Rcheck Warnings: 0