Package: ptairData Version: 1.10.0 Command: /home/biocbuild/bbs-3.18-bioc/R/bin/R CMD build --keep-empty-dirs --no-resave-data ptairData StartedAt: 2024-04-16 10:47:15 -0400 (Tue, 16 Apr 2024) EndedAt: 2024-04-16 10:47:25 -0400 (Tue, 16 Apr 2024) EllapsedTime: 10.0 seconds RetCode: 0 Status: OK PackageFile: ptairData_1.10.0.tar.gz PackageFileSize: 53.1 MiB