Package: ptairData Version: 1.10.0 Maintainer: camille Roquencourt MaintainerEmail: camille.roquencourt at hotmail.fr git_url: https://git.bioconductor.org/packages/ptairData git_branch: RELEASE_3_18 git_last_commit: 8d2c280 git_last_commit_date: 2023-10-24 09:22:01 -0400 (Tue, 24 Oct 2023)