Package: prostateCancerTaylor Version: 1.30.0 Command: /home/biocbuild/bbs-3.18-bioc/R/bin/R CMD INSTALL prostateCancerTaylor StartedAt: 2024-04-16 10:01:24 -0400 (Tue, 16 Apr 2024) EndedAt: 2024-04-16 10:01:40 -0400 (Tue, 16 Apr 2024) EllapsedTime: 16.4 seconds RetCode: 0 Status: OK