Package: pasillaBamSubset Version: 0.40.0 Maintainer: Hervé Pagès MaintainerEmail: hpages.on.github at gmail.com git_url: https://git.bioconductor.org/packages/pasillaBamSubset git_branch: RELEASE_3_18 git_last_commit: 7254146 git_last_commit_date: 2023-10-24 08:58:06 -0400 (Tue, 24 Oct 2023)