Package: parathyroidSE Version: 1.40.0 Command: /home/biocbuild/bbs-3.18-bioc/R/bin/R CMD check --install=check:parathyroidSE.install-out.txt --library=/home/biocbuild/bbs-3.18-bioc/R/site-library --timings parathyroidSE_1.40.0.tar.gz StartedAt: 2024-04-16 12:04:33 -0400 (Tue, 16 Apr 2024) EndedAt: 2024-04-16 12:06:10 -0400 (Tue, 16 Apr 2024) EllapsedTime: 96.9 seconds RetCode: 0 Status: OK CheckDir: parathyroidSE.Rcheck Warnings: 0