Package: parathyroidSE Version: 1.40.0 Maintainer: Michael Love MaintainerEmail: michaelisaiahlove at gmail.com git_url: https://git.bioconductor.org/packages/parathyroidSE git_branch: RELEASE_3_18 git_last_commit: e1715eb git_last_commit_date: 2023-10-24 09:04:52 -0400 (Tue, 24 Oct 2023)