Package: mvoutData Version: 1.38.0 Command: /home/biocbuild/bbs-3.18-bioc/R/bin/R CMD check --install=check:mvoutData.install-out.txt --library=/home/biocbuild/bbs-3.18-bioc/R/site-library --timings mvoutData_1.38.0.tar.gz StartedAt: 2024-04-16 11:59:57 -0400 (Tue, 16 Apr 2024) EndedAt: 2024-04-16 12:02:25 -0400 (Tue, 16 Apr 2024) EllapsedTime: 148.6 seconds RetCode: 0 Status: OK CheckDir: mvoutData.Rcheck Warnings: 0