Package: muscData Version: 1.16.0 Command: /home/biocbuild/bbs-3.18-bioc/R/bin/R CMD check --install=check:muscData.install-out.txt --library=/home/biocbuild/bbs-3.18-bioc/R/site-library --timings muscData_1.16.0.tar.gz StartedAt: 2024-04-16 11:59:50 -0400 (Tue, 16 Apr 2024) EndedAt: 2024-04-16 12:03:44 -0400 (Tue, 16 Apr 2024) EllapsedTime: 233.8 seconds RetCode: 0 Status: WARNINGS CheckDir: muscData.Rcheck Warnings: 1