Package: multiWGCNAdata Version: 1.0.0 Command: /home/biocbuild/bbs-3.18-bioc/R/bin/R CMD check --install=check:multiWGCNAdata.install-out.txt --library=/home/biocbuild/bbs-3.18-bioc/R/site-library --timings multiWGCNAdata_1.0.0.tar.gz StartedAt: 2024-04-16 11:59:23 -0400 (Tue, 16 Apr 2024) EndedAt: 2024-04-16 12:00:18 -0400 (Tue, 16 Apr 2024) EllapsedTime: 55.1 seconds RetCode: 0 Status: OK CheckDir: multiWGCNAdata.Rcheck Warnings: 0