Package: multiWGCNAdata Version: 1.0.0 Maintainer: Dario Tommasini MaintainerEmail: dtommasini0 at gmail.com git_url: https://git.bioconductor.org/packages/multiWGCNAdata git_branch: RELEASE_3_18 git_last_commit: 106183b git_last_commit_date: 2023-10-24 09:24:42 -0400 (Tue, 24 Oct 2023)