Package: minionSummaryData Version: 1.32.0 Command: /home/biocbuild/bbs-3.18-bioc/R/bin/R CMD build --keep-empty-dirs --no-resave-data minionSummaryData StartedAt: 2024-04-16 10:42:01 -0400 (Tue, 16 Apr 2024) EndedAt: 2024-04-16 10:42:14 -0400 (Tue, 16 Apr 2024) EllapsedTime: 13.1 seconds RetCode: 0 Status: OK PackageFile: minionSummaryData_1.32.0.tar.gz PackageFileSize: 134.7 MiB