Package: macrophage Version: 1.18.0 Command: /home/biocbuild/bbs-3.18-bioc/R/bin/R CMD build --keep-empty-dirs --no-resave-data macrophage StartedAt: 2024-04-16 10:38:49 -0400 (Tue, 16 Apr 2024) EndedAt: 2024-04-16 10:39:30 -0400 (Tue, 16 Apr 2024) EllapsedTime: 41.0 seconds RetCode: 0 Status: OK PackageFile: macrophage_1.18.0.tar.gz PackageFileSize: 511.4 MiB