Package: lungExpression Version: 0.40.0 Maintainer: Robert Scharpf MaintainerEmail: rscharpf at jhu.edu git_url: https://git.bioconductor.org/packages/lungExpression git_branch: RELEASE_3_18 git_last_commit: f877a43 git_last_commit_date: 2023-10-24 08:54:32 -0400 (Tue, 24 Oct 2023)