Package: leeBamViews Version: 1.38.0 Maintainer: VJ Carey MaintainerEmail: stvjc at channing.harvard.edu git_url: https://git.bioconductor.org/packages/leeBamViews git_branch: RELEASE_3_18 git_last_commit: 98ea87d git_last_commit_date: 2023-10-24 08:56:13 -0400 (Tue, 24 Oct 2023)