Package: humanStemCell Version: 0.42.0 Maintainer: R. Gentleman MaintainerEmail: rgentlem at fhcrc.org git_url: https://git.bioconductor.org/packages/humanStemCell git_branch: RELEASE_3_18 git_last_commit: 9c65ba5 git_last_commit_date: 2023-10-24 08:55:41 -0400 (Tue, 24 Oct 2023)