Package: hgu133plus2CellScore Version: 1.22.0 Command: /home/biocbuild/bbs-3.18-bioc/R/bin/R CMD build --keep-empty-dirs --no-resave-data hgu133plus2CellScore StartedAt: 2024-04-16 10:34:47 -0400 (Tue, 16 Apr 2024) EndedAt: 2024-04-16 10:35:19 -0400 (Tue, 16 Apr 2024) EllapsedTime: 32.3 seconds RetCode: 0 Status: OK PackageFile: hgu133plus2CellScore_1.22.0.tar.gz PackageFileSize: 40.99 MiB