Package: healthyControlsPresenceChecker Version: 1.6.0 Command: /home/biocbuild/bbs-3.18-bioc/R/bin/R CMD build --keep-empty-dirs --no-resave-data healthyControlsPresenceChecker StartedAt: 2024-04-16 10:34:33 -0400 (Tue, 16 Apr 2024) EndedAt: 2024-04-16 10:34:44 -0400 (Tue, 16 Apr 2024) EllapsedTime: 11.5 seconds RetCode: 0 Status: OK PackageFile: healthyControlsPresenceChecker_1.6.0.tar.gz PackageFileSize: 219.7 KiB