Package: hapmap500ksty Version: 1.44.0 Command: /home/biocbuild/bbs-3.18-bioc/R/bin/R CMD INSTALL hapmap500ksty StartedAt: 2024-04-16 10:00:44 -0400 (Tue, 16 Apr 2024) EndedAt: 2024-04-16 10:00:46 -0400 (Tue, 16 Apr 2024) EllapsedTime: 2.1 seconds RetCode: 0 Status: OK