Package: dyebiasexamples Version: 1.42.0 Maintainer: Philip Lijnzaad MaintainerEmail: plijnzaad at gmail.com git_url: https://git.bioconductor.org/packages/dyebiasexamples git_branch: RELEASE_3_18 git_last_commit: 9929f42 git_last_commit_date: 2023-10-24 08:55:50 -0400 (Tue, 24 Oct 2023)