Package: diggitdata Version: 1.34.0 Command: /home/biocbuild/bbs-3.18-bioc/R/bin/R CMD check --install=check:diggitdata.install-out.txt --library=/home/biocbuild/bbs-3.18-bioc/R/site-library --timings diggitdata_1.34.0.tar.gz StartedAt: 2024-04-16 11:20:38 -0400 (Tue, 16 Apr 2024) EndedAt: 2024-04-16 11:21:37 -0400 (Tue, 16 Apr 2024) EllapsedTime: 59.0 seconds RetCode: 0 Status: OK CheckDir: diggitdata.Rcheck Warnings: 0