Package: curatedMetagenomicData Version: 3.10.0 Maintainer: Lucas schiffer MaintainerEmail: schiffer.lucas at gmail.com git_url: https://git.bioconductor.org/packages/curatedMetagenomicData git_branch: RELEASE_3_18 git_last_commit: e64df94 git_last_commit_date: 2023-10-24 09:14:43 -0400 (Tue, 24 Oct 2023)