Package: clustifyrdatahub Version: 1.12.0 Maintainer: Kent Riemondy MaintainerEmail: kent.riemondy at cuanschutz.edu git_url: https://git.bioconductor.org/packages/clustifyrdatahub git_branch: RELEASE_3_18 git_last_commit: f55a9d9 git_last_commit_date: 2023-10-24 09:21:11 -0400 (Tue, 24 Oct 2023)