Package: bsseqData Version: 0.40.0 Maintainer: Kasper Daniel Hansen MaintainerEmail: khansen at jhsph.edu git_url: https://git.bioconductor.org/packages/bsseqData git_branch: RELEASE_3_18 git_last_commit: d52a6d2 git_last_commit_date: 2023-10-24 08:58:26 -0400 (Tue, 24 Oct 2023)