Package: bronchialIL13 Version: 1.40.0 Maintainer: Vince Carey MaintainerEmail: stvjc at channing.harvard.edu git_url: https://git.bioconductor.org/packages/bronchialIL13 git_branch: RELEASE_3_18 git_last_commit: 7499106 git_last_commit_date: 2023-10-24 08:53:18 -0400 (Tue, 24 Oct 2023)