Package: bodymapRat Version: 1.18.0 Command: /home/biocbuild/bbs-3.18-bioc/R/bin/R CMD check --install=check:bodymapRat.install-out.txt --library=/home/biocbuild/bbs-3.18-bioc/R/site-library --timings bodymapRat_1.18.0.tar.gz StartedAt: 2024-04-16 11:03:05 -0400 (Tue, 16 Apr 2024) EndedAt: 2024-04-16 11:08:54 -0400 (Tue, 16 Apr 2024) EllapsedTime: 349.0 seconds RetCode: 0 Status: OK CheckDir: bodymapRat.Rcheck Warnings: 0