Package: bladderbatch Version: 1.40.0 Command: /home/biocbuild/bbs-3.18-bioc/R/bin/R CMD check --install=check:bladderbatch.install-out.txt --library=/home/biocbuild/bbs-3.18-bioc/R/site-library --timings bladderbatch_1.40.0.tar.gz StartedAt: 2024-04-16 11:02:38 -0400 (Tue, 16 Apr 2024) EndedAt: 2024-04-16 11:03:05 -0400 (Tue, 16 Apr 2024) EllapsedTime: 26.7 seconds RetCode: 0 Status: WARNINGS CheckDir: bladderbatch.Rcheck Warnings: 1