Package: beadarrayExampleData Version: 1.40.0 Command: /home/biocbuild/bbs-3.18-bioc/R/bin/R CMD INSTALL beadarrayExampleData StartedAt: 2024-04-16 10:05:42 -0400 (Tue, 16 Apr 2024) EndedAt: 2024-04-16 10:05:53 -0400 (Tue, 16 Apr 2024) EllapsedTime: 11.0 seconds RetCode: 0 Status: OK