Package: antiProfilesData Version: 1.38.0 Maintainer: Hector Corrada Bravo MaintainerEmail: hcorrada at gmail.com git_url: https://git.bioconductor.org/packages/antiProfilesData git_branch: RELEASE_3_18 git_last_commit: c6c3ef5 git_last_commit_date: 2023-10-24 09:05:25 -0400 (Tue, 24 Oct 2023)